BEGIN:VCALENDAR
VERSION:2.0
PRODID:-//Sabre//Sabre VObject 4.5.8//EN
CALSCALE:GREGORIAN
BEGIN:VEVENT
UID:sabre-vobject-7bb3c572-7ac9-44ec-80fa-e482442f642a
DTSTAMP:20260419T171124Z
SUMMARY:Asphaltseminar 2026
DESCRIPTION:Willingen\n24.-26. März 2026
LOCATION:Willingen
DTSTART:20260324T120000Z
DTEND:20260326T120000Z
END:VEVENT
END:VCALENDAR
