BEGIN:VCALENDAR
VERSION:2.0
PRODID:-//Sabre//Sabre VObject 4.5.8//EN
CALSCALE:GREGORIAN
BEGIN:VEVENT
UID:sabre-vobject-46c717a9-e5b9-4999-99f2-694ff8585c47
DTSTAMP:20260419T155107Z
SUMMARY:Deutsche Asphalttage 2026
DESCRIPTION:Berchtesgaden\n25.-27. Februar 2026
LOCATION:Berchtesgaden
DTSTART:20260225T120000Z
DTEND:20260227T120000Z
END:VEVENT
END:VCALENDAR
