BEGIN:VCALENDAR
VERSION:2.0
PRODID:-//Sabre//Sabre VObject 4.5.8//EN
CALSCALE:GREGORIAN
BEGIN:VEVENT
UID:sabre-vobject-e8ac6200-fbc2-4536-b1de-c330c0df3949
DTSTAMP:20260419T165052Z
SUMMARY:Asphalt seminar 2026
DESCRIPTION:Willingen\n24-26 March 2026
LOCATION:Willingen
DTSTART:20260324T120000Z
DTEND:20260326T120000Z
END:VEVENT
END:VCALENDAR
