BEGIN:VCALENDAR
VERSION:2.0
PRODID:-//Sabre//Sabre VObject 4.5.8//EN
CALSCALE:GREGORIAN
BEGIN:VEVENT
UID:sabre-vobject-4d1432ca-2482-4c06-b89a-32672467658e
DTSTAMP:20260419T165325Z
SUMMARY:Paris Packaging Week 2026
DESCRIPTION:Paris\n05-06 February 2026
LOCATION:Paris
DTSTART:20260205T120000Z
DTEND:20260206T120000Z
END:VEVENT
END:VCALENDAR
