BEGIN:VCALENDAR
VERSION:2.0
PRODID:-//Sabre//Sabre VObject 4.5.8//EN
CALSCALE:GREGORIAN
BEGIN:VEVENT
UID:sabre-vobject-221fdead-f212-4c44-88c3-4d74ebf45909
DTSTAMP:20260419T165228Z
SUMMARY:German Asphalt Days 2026
DESCRIPTION:Berchtesgaden\n25-27 February 2026
LOCATION:Berchtesgaden
DTSTART:20260225T120000Z
DTEND:20260227T120000Z
END:VEVENT
END:VCALENDAR
