BEGIN:VCALENDAR
VERSION:2.0
PRODID:-//Sabre//Sabre VObject 4.5.8//EN
CALSCALE:GREGORIAN
BEGIN:VEVENT
UID:sabre-vobject-367aede7-122d-46de-8c3d-16ad6d212316
DTSTAMP:20260419T165052Z
SUMMARY:PLMA Amsterdam 2026
DESCRIPTION:Amsterdam\n19-20 May 2026
LOCATION:Amsterdam
DTSTART:20260519T120000Z
DTEND:20260520T120000Z
END:VEVENT
END:VCALENDAR
