BEGIN:VCALENDAR
VERSION:2.0
PRODID:-//Sabre//Sabre VObject 4.5.8//EN
CALSCALE:GREGORIAN
BEGIN:VEVENT
UID:sabre-vobject-ef06245d-12d4-4c90-8eef-7e91f547a6ab
DTSTAMP:20260419T165254Z
SUMMARY:Interzoo 2026
DESCRIPTION:Nuremberg\n12-15 May 2026
LOCATION:Nuremberg
DTSTART:20260512T120000Z
DTEND:20260515T120000Z
END:VEVENT
END:VCALENDAR
