BEGIN:VCALENDAR
VERSION:2.0
PRODID:-//Sabre//Sabre VObject 4.5.8//EN
CALSCALE:GREGORIAN
BEGIN:VEVENT
UID:sabre-vobject-a7d4dd68-38c7-4856-a249-56e3e91cf333
DTSTAMP:20260419T165026Z
SUMMARY:Cosmetic Business 2026
DESCRIPTION:Munich\n10-11 June 2026
LOCATION:Munich
DTSTART:20260610T120000Z
DTEND:20260611T120000Z
END:VEVENT
END:VCALENDAR
