BEGIN:VCALENDAR
VERSION:2.0
PRODID:-//Sabre//Sabre VObject 4.5.8//EN
CALSCALE:GREGORIAN
BEGIN:VEVENT
UID:sabre-vobject-3182e35c-6545-4a0b-a825-53378a34443f
DTSTAMP:20260419T171256Z
SUMMARY:Biofach 2026
DESCRIPTION:Nuremberg\n10-13 February 2026
LOCATION:Nuremberg
DTSTART:20260210T120000Z
DTEND:20260213T120000Z
END:VEVENT
END:VCALENDAR
