BEGIN:VCALENDAR
VERSION:2.0
PRODID:-//Sabre//Sabre VObject 4.5.8//EN
CALSCALE:GREGORIAN
BEGIN:VEVENT
UID:sabre-vobject-06c02745-3e37-418b-9be3-48aacc44b501
DTSTAMP:20260419T171810Z
SUMMARY:PCI Days 2026
DESCRIPTION:Warsaw\n16-18 June 2026
LOCATION:Warsaw
DTSTART:20260616T120000Z
DTEND:20260618T120000Z
END:VEVENT
END:VCALENDAR
